BEGIN:VCALENDAR
VERSION:2.0
PRODID:-//Mairie de Salles-sur-l&#039;Hers - ECPv6.15.20//NONSGML v1.0//EN
CALSCALE:GREGORIAN
METHOD:PUBLISH
X-ORIGINAL-URL:https://sallessurlhers.fr
X-WR-CALDESC:Évènements pour Mairie de Salles-sur-l&#039;Hers
REFRESH-INTERVAL;VALUE=DURATION:PT1H
X-Robots-Tag:noindex
X-PUBLISHED-TTL:PT1H
BEGIN:VTIMEZONE
TZID:Europe/Paris
BEGIN:DAYLIGHT
TZOFFSETFROM:+0100
TZOFFSETTO:+0200
TZNAME:CEST
DTSTART:20240331T010000
END:DAYLIGHT
BEGIN:STANDARD
TZOFFSETFROM:+0200
TZOFFSETTO:+0100
TZNAME:CET
DTSTART:20241027T010000
END:STANDARD
BEGIN:DAYLIGHT
TZOFFSETFROM:+0100
TZOFFSETTO:+0200
TZNAME:CEST
DTSTART:20250330T010000
END:DAYLIGHT
BEGIN:STANDARD
TZOFFSETFROM:+0200
TZOFFSETTO:+0100
TZNAME:CET
DTSTART:20251026T010000
END:STANDARD
BEGIN:DAYLIGHT
TZOFFSETFROM:+0100
TZOFFSETTO:+0200
TZNAME:CEST
DTSTART:20260329T010000
END:DAYLIGHT
BEGIN:STANDARD
TZOFFSETFROM:+0200
TZOFFSETTO:+0100
TZNAME:CET
DTSTART:20261025T010000
END:STANDARD
END:VTIMEZONE
BEGIN:VEVENT
DTSTART;TZID=Europe/Paris:20250329T203000
DTEND;TZID=Europe/Paris:20250329T230000
DTSTAMP:20260425T165722
CREATED:20250326T194946Z
LAST-MODIFIED:20250326T194946Z
UID:5159-1743280200-1743289200@sallessurlhers.fr
SUMMARY:Loto du comité des fêtes
DESCRIPTION:Notre loto annuel aura lieu le 29 mars à 20h30 sous la halle. \n\n\nDe nombreux lots à gagner: plancha\, cuisse de bœuf  \, demi cochon prêt à cuire \, machine à café  \, bourse de 150€ \, poulets  \, côtes de bœuf  et tant d’autre alors réservez votre soirée du 29 mars et venez passer la soirée avec nous
URL:https://sallessurlhers.fr/agenda/loto-du-comite-des-fetes/
LOCATION:La Halle\, Gr Grand Rue\, Salles-sur-l'Hers\, 11410\, France
CATEGORIES:Animation,Jeu
ATTACH;FMTTYPE=image/jpeg:https://sallessurlhers.fr/wp-content/uploads/2025/03/comite-loto2-scaled.jpg
END:VEVENT
END:VCALENDAR